BEGIN:VCALENDAR
VERSION:2.0
PRODID:-//Good Shepherd Lutheran School - ECPv5.0.2.1//NONSGML v1.0//EN
CALSCALE:GREGORIAN
METHOD:PUBLISH
X-WR-CALNAME:Good Shepherd Lutheran School
X-ORIGINAL-URL:https://www.goodshepherd.sa.edu.au
X-WR-CALDESC:Events for Good Shepherd Lutheran School
BEGIN:VTIMEZONE
TZID:Australia/Adelaide
BEGIN:STANDARD
TZOFFSETFROM:+1030
TZOFFSETTO:+0930
TZNAME:ACST
DTSTART:20200404T163000
END:STANDARD
BEGIN:DAYLIGHT
TZOFFSETFROM:+0930
TZOFFSETTO:+1030
TZNAME:ACDT
DTSTART:20201003T163000
END:DAYLIGHT
END:VTIMEZONE
BEGIN:VEVENT
DTSTART;VALUE=DATE:20200127
DTEND;VALUE=DATE:20200128
DTSTAMP:20200228T100931
CREATED:20200107T023510Z
LAST-MODIFIED:20200107T023510Z
UID:59294-1580083200-1580169599@www.goodshepherd.sa.edu.au
SUMMARY:Australia Day Public Holiday (observed)
DESCRIPTION:
URL:https://www.goodshepherd.sa.edu.au/event/australia-day-public-holiday-observed-2/
END:VEVENT
BEGIN:VEVENT
DTSTART;TZID=Australia/Adelaide:20200128T090000
DTEND;TZID=Australia/Adelaide:20200128T153000
DTSTAMP:20200228T100931
CREATED:20191023T010036Z
LAST-MODIFIED:20191023T010036Z
UID:58931-1580202000-1580225400@www.goodshepherd.sa.edu.au
SUMMARY:First Day of School Term 1 2020
DESCRIPTION:
URL:https://www.goodshepherd.sa.edu.au/event/first-day-of-school-term-1-2020/
END:VEVENT
BEGIN:VEVENT
DTSTART;TZID=Australia/Adelaide:20200128T090000
DTEND;TZID=Australia/Adelaide:20200128T093000
DTSTAMP:20200228T100931
CREATED:20200107T023721Z
LAST-MODIFIED:20200107T025321Z
UID:59296-1580202000-1580203800@www.goodshepherd.sa.edu.au
SUMMARY:Opening Worship - Pastor Rob (installation of new staff) followed by parent's morning tea
DESCRIPTION:
URL:https://www.goodshepherd.sa.edu.au/event/opening-worship-including-installation-of-new-staff-followed-by-parents-morning-tea/
END:VEVENT
BEGIN:VEVENT
DTSTART;TZID=Australia/Adelaide:20200203T090000
DTEND;TZID=Australia/Adelaide:20200203T093000
DTSTAMP:20200228T100932
CREATED:20200107T024038Z
LAST-MODIFIED:20200107T024038Z
UID:59300-1580720400-1580722200@www.goodshepherd.sa.edu.au
SUMMARY:Assembly - Mr Hausler's 3/4 Class
DESCRIPTION:
URL:https://www.goodshepherd.sa.edu.au/event/assembly-mr-hauslers-3-4-class/
END:VEVENT
BEGIN:VEVENT
DTSTART;TZID=Australia/Adelaide:20200203T093000
DTEND;TZID=Australia/Adelaide:20200203T110000
DTSTAMP:20200228T100932
CREATED:20200107T042126Z
LAST-MODIFIED:20200107T042126Z
UID:59392-1580722200-1580727600@www.goodshepherd.sa.edu.au
SUMMARY:Building Blocks Playgroup
DESCRIPTION:
URL:https://www.goodshepherd.sa.edu.au/event/building-blocks-playgroup-8/
END:VEVENT
BEGIN:VEVENT
DTSTART;TZID=Australia/Adelaide:20200203T130000
DTEND;TZID=Australia/Adelaide:20200203T150000
DTSTAMP:20200228T100932
CREATED:20200107T024142Z
LAST-MODIFIED:20200107T024142Z
UID:59302-1580734800-1580742000@www.goodshepherd.sa.edu.au
SUMMARY:P&F Meeting in Library
DESCRIPTION:
URL:https://www.goodshepherd.sa.edu.au/event/pf-meeting-in-library-2/
END:VEVENT
BEGIN:VEVENT
DTSTART;TZID=Australia/Adelaide:20200204T193000
DTEND;TZID=Australia/Adelaide:20200204T213000
DTSTAMP:20200228T100932
CREATED:20200107T024253Z
LAST-MODIFIED:20200107T024253Z
UID:59304-1580844600-1580851800@www.goodshepherd.sa.edu.au
SUMMARY:School Council Meeting
DESCRIPTION:
URL:https://www.goodshepherd.sa.edu.au/event/school-council-meeting-11/
END:VEVENT
BEGIN:VEVENT
DTSTART;TZID=Australia/Adelaide:20200205T180000
DTEND;TZID=Australia/Adelaide:20200205T193500
DTSTAMP:20200228T100932
CREATED:20200107T025053Z
LAST-MODIFIED:20200107T025053Z
UID:59306-1580925600-1580931300@www.goodshepherd.sa.edu.au
SUMMARY:Parent Information Night
DESCRIPTION:Session 1: 6.00pm – 6.30pm\nSession 2: 6.35pm – 7.05pm \n
URL:https://www.goodshepherd.sa.edu.au/event/parent-information-night-2/
END:VEVENT
BEGIN:VEVENT
DTSTART;TZID=Australia/Adelaide:20200206T150000
DTEND;TZID=Australia/Adelaide:20200206T160000
DTSTAMP:20200228T100932
CREATED:20200107T025207Z
LAST-MODIFIED:20200107T025207Z
UID:59308-1581001200-1581004800@www.goodshepherd.sa.edu.au
SUMMARY:Newsletter
DESCRIPTION:
URL:https://www.goodshepherd.sa.edu.au/event/newsletter/
END:VEVENT
BEGIN:VEVENT
DTSTART;TZID=Australia/Adelaide:20200207T090000
DTEND;TZID=Australia/Adelaide:20200207T093000
DTSTAMP:20200228T100932
CREATED:20200107T025453Z
LAST-MODIFIED:20200107T025453Z
UID:59311-1581066000-1581067800@www.goodshepherd.sa.edu.au
SUMMARY:Chapel - Fiona Lloyde (School Chaplain)
DESCRIPTION:
URL:https://www.goodshepherd.sa.edu.au/event/chapel-fiona-lloyde-school-chaplain/
END:VEVENT
BEGIN:VEVENT
DTSTART;TZID=Australia/Adelaide:20200207T160000
DTEND;TZID=Australia/Adelaide:20200207T200000
DTSTAMP:20200228T100932
CREATED:20200107T025721Z
LAST-MODIFIED:20200107T025721Z
UID:59313-1581091200-1581105600@www.goodshepherd.sa.edu.au
SUMMARY:Aloha Night
DESCRIPTION:
URL:https://www.goodshepherd.sa.edu.au/event/aloha-night-2/
END:VEVENT
BEGIN:VEVENT
DTSTART;TZID=Australia/Adelaide:20200210T090000
DTEND;TZID=Australia/Adelaide:20200210T093000
DTSTAMP:20200228T100932
CREATED:20200107T030913Z
LAST-MODIFIED:20200107T030913Z
UID:59315-1581325200-1581327000@www.goodshepherd.sa.edu.au
SUMMARY:Assembly - Mrs Emmett's Foundation Class
DESCRIPTION:
URL:https://www.goodshepherd.sa.edu.au/event/assembly-mrs-emmetts-foundation-class/
END:VEVENT
BEGIN:VEVENT
DTSTART;TZID=Australia/Adelaide:20200210T093000
DTEND;TZID=Australia/Adelaide:20200210T110000
DTSTAMP:20200228T100932
CREATED:20200107T042222Z
LAST-MODIFIED:20200107T042222Z
UID:59394-1581327000-1581332400@www.goodshepherd.sa.edu.au
SUMMARY:Building Blocks Playgroup
DESCRIPTION:
URL:https://www.goodshepherd.sa.edu.au/event/building-blocks-playgroup-9/
END:VEVENT
BEGIN:VEVENT
DTSTART;TZID=Australia/Adelaide:20200214T090000
DTEND;TZID=Australia/Adelaide:20200214T093000
DTSTAMP:20200228T100932
CREATED:20200107T031227Z
LAST-MODIFIED:20200107T031227Z
UID:59317-1581670800-1581672600@www.goodshepherd.sa.edu.au
SUMMARY:Chapel - Mr Hausler's 3/4 Class
DESCRIPTION:
URL:https://www.goodshepherd.sa.edu.au/event/chapel-mr-hauslers-3-4-class/
END:VEVENT
BEGIN:VEVENT
DTSTART;TZID=Australia/Adelaide:20200217T080000
DTEND;TZID=Australia/Adelaide:20200217T170000
DTSTAMP:20200228T100932
CREATED:20200107T031914Z
LAST-MODIFIED:20200107T031914Z
UID:59319-1581926400-1581958800@www.goodshepherd.sa.edu.au
SUMMARY:Assembly - Mr Evans' 6/7 Class
DESCRIPTION:
URL:https://www.goodshepherd.sa.edu.au/event/assembly-mr-evans-6-7-class/
END:VEVENT
BEGIN:VEVENT
DTSTART;TZID=Australia/Adelaide:20200217T093000
DTEND;TZID=Australia/Adelaide:20200217T110000
DTSTAMP:20200228T100932
CREATED:20200107T042310Z
LAST-MODIFIED:20200107T042310Z
UID:59396-1581931800-1581937200@www.goodshepherd.sa.edu.au
SUMMARY:Building Blocks Playgroup
DESCRIPTION:
URL:https://www.goodshepherd.sa.edu.au/event/building-blocks-playgroup-10/
END:VEVENT
BEGIN:VEVENT
DTSTART;TZID=Australia/Adelaide:20200220T150000
DTEND;TZID=Australia/Adelaide:20200220T160000
DTSTAMP:20200228T100932
CREATED:20200107T032017Z
LAST-MODIFIED:20200107T032017Z
UID:59321-1582210800-1582214400@www.goodshepherd.sa.edu.au
SUMMARY:Newsletter
DESCRIPTION:
URL:https://www.goodshepherd.sa.edu.au/event/newsletter-2/
END:VEVENT
BEGIN:VEVENT
DTSTART;TZID=Australia/Adelaide:20200221T090000
DTEND;TZID=Australia/Adelaide:20200221T093000
DTSTAMP:20200228T100932
CREATED:20200107T032257Z
LAST-MODIFIED:20200107T032257Z
UID:59323-1582275600-1582277400@www.goodshepherd.sa.edu.au
SUMMARY:Chapel - Mrs Guglielmo's 5/6 Class and Bible Presentations to Foundation/Year 4 Students
DESCRIPTION:
URL:https://www.goodshepherd.sa.edu.au/event/chapel-mrs-guglielmos-5-6-class-and-bible-presentations-to-foundation-year-4-students/
END:VEVENT
BEGIN:VEVENT
DTSTART;TZID=Australia/Adelaide:20200224T090000
DTEND;TZID=Australia/Adelaide:20200224T093000
DTSTAMP:20200228T100932
CREATED:20200107T032557Z
LAST-MODIFIED:20200107T032557Z
UID:59325-1582534800-1582536600@www.goodshepherd.sa.edu.au
SUMMARY:Assembly - Ms Beames 1/2 Class
DESCRIPTION:
URL:https://www.goodshepherd.sa.edu.au/event/assembly-ms-beames-1-2-class/
END:VEVENT
BEGIN:VEVENT
DTSTART;TZID=Australia/Adelaide:20200224T093000
DTEND;TZID=Australia/Adelaide:20200224T110000
DTSTAMP:20200228T100932
CREATED:20200107T042349Z
LAST-MODIFIED:20200107T042349Z
UID:59399-1582536600-1582542000@www.goodshepherd.sa.edu.au
SUMMARY:Building Blocks Playgroup
DESCRIPTION:
URL:https://www.goodshepherd.sa.edu.au/event/building-blocks-playgroup-11/
END:VEVENT
BEGIN:VEVENT
DTSTART;TZID=Australia/Adelaide:20200228T090000
DTEND;TZID=Australia/Adelaide:20200228T093000
DTSTAMP:20200228T100932
CREATED:20200107T032645Z
LAST-MODIFIED:20200107T032645Z
UID:59327-1582880400-1582882200@www.goodshepherd.sa.edu.au
SUMMARY:Chapel - Mrs Emmett's Foundation Class
DESCRIPTION:
URL:https://www.goodshepherd.sa.edu.au/event/chapel-mrs-emmetts-foundation-class/
END:VEVENT
END:VCALENDAR